BEGIN:VCALENDAR
VERSION:2.0
PRODID:-//Illogan Parish Council - ECPv4.9.8//NONSGML v1.0//EN
CALSCALE:GREGORIAN
METHOD:PUBLISH
X-WR-CALNAME:Illogan Parish Council
X-ORIGINAL-URL:https://www.illoganparishcouncil.gov.uk
X-WR-CALDESC:Events for Illogan Parish Council
BEGIN:VTIMEZONE
TZID:Europe/London
BEGIN:DAYLIGHT
TZOFFSETFROM:+0000
TZOFFSETTO:+0100
TZNAME:BST
DTSTART:20250330T010000
END:DAYLIGHT
BEGIN:STANDARD
TZOFFSETFROM:+0100
TZOFFSETTO:+0000
TZNAME:GMT
DTSTART:20251026T010000
END:STANDARD
END:VTIMEZONE
BEGIN:VEVENT
DTSTART;TZID="Europe/London":20251011T104500
DTEND;TZID="Europe/London":20251011T130000
DTSTAMP:20260421T075411
CREATED:20250422T141858Z
LAST-MODIFIED:20260120T122425Z
UID:13008-1760179500-1760187600@www.illoganparishcouncil.gov.uk
SUMMARY:Autumn Community Litter Pick
DESCRIPTION:Saturday\, 21 March 2026 \nMeet at either: \n\n\nIllogan Parish Council Community Office\, or \n\n\nTolvaddon Community Fire Station \n\n\nTime: 10:45 a.m. \nLight refreshments will be provided at approximately 1:00 p.m. \nEveryone is welcome. All equipment will be provided. \nFor further information\, please contact us on 01209 711433 or email enquiries@illoganparishcouncil.gov.uk 
URL:https://www.illoganparishcouncil.gov.uk/event/autumn-community-litter-pick/
LOCATION:Cornwall\, United Kingdom
ATTACH;FMTTYPE=image/jpeg:https://www.illoganparishcouncil.gov.uk/wp-content/uploads/2026/01/Spring-2026.jpg
ORGANIZER;CN="Illogan%20Parish%20Council":MAILTO:enquiries@illoganparishcouncil.gov.uk
END:VEVENT
END:VCALENDAR