BEGIN:VCALENDAR
VERSION:2.0
PRODID:-//Illogan Parish Council - ECPv4.9.8//NONSGML v1.0//EN
CALSCALE:GREGORIAN
METHOD:PUBLISH
X-WR-CALNAME:Illogan Parish Council
X-ORIGINAL-URL:https://www.illoganparishcouncil.gov.uk
X-WR-CALDESC:Events for Illogan Parish Council
BEGIN:VTIMEZONE
TZID:Europe/London
BEGIN:DAYLIGHT
TZOFFSETFROM:+0000
TZOFFSETTO:+0100
TZNAME:BST
DTSTART:20260329T010000
END:DAYLIGHT
BEGIN:STANDARD
TZOFFSETFROM:+0100
TZOFFSETTO:+0000
TZNAME:GMT
DTSTART:20261025T010000
END:STANDARD
END:VTIMEZONE
BEGIN:VEVENT
DTSTART;TZID="Europe/London":20260401T190000
DTEND;TZID="Europe/London":20260401T210000
DTSTAMP:20260420T163629
CREATED:20260108T091115Z
LAST-MODIFIED:20260325T104158Z
UID:13596-1775070000-1775077200@www.illoganparishcouncil.gov.uk
SUMMARY:Climate Environment and Planning Committee
DESCRIPTION:Members of the public are invited\, and Councillors are summoned to attend a meeting of the Climate\, Environment and Planning Committee of Illogan Parish Council.\nWe look forward to your attendance. \nIllogan Parish Council is committed to ensuring that its meetings are accessible to all. The venue includes accessible facilities. If you require reasonable adjustments or this notice in an alternative format\, please contact the Parish Clerk as soon as possible. \nEmail: enquiries@illoganparishcouncil.gov.uk\nTelephone: 01209 711433 \nDate\, Time and Location:\nWednesday 1st April 2026 at 7pm in Illogan Parish Council Community Office\, Trevelyan Road\, Illogan. \nAGENDA\n\nSafety Procedures\nTo receive and approve apologies for absence and agree any future actions\nMembers to declare disclosable pecuniary interests and non-registerable interests (including details thereof) in respect of any items on the agenda and any gifts or hospitality worth £25 or over\nTo consider applications from members for dispensations\nTo receive and approve the minutes of the meetings of this Committee held on the 4th and 18th March 2026 and the Chairman to sign them.\nMatters arising from the minutes and a report on progress of actions\, for information only\nPublic participation\nTo receive a report from Councillor Cullimore\, discuss planning application\, PA26/01172\, Tressingham\, Rosewarne Downs\, Removal of decking and erection of conservatory to the SSE elevation of the property. Replacement of the upstairs doors with a window also and agree statutory consultee comments to return to Cornwall Council Planning Department\nTo receive a report from Councillor Cullimore\, discuss planning application\, PA26/01695\, 1 The Courtyard\, Tehidy Park\, Tehidy\, Listed Building Consent to replace existing inappropriate cementitious mortar of the external sandstone elevations with a breathable lime mortar and agree statutory consultee comments to return to Cornwall Council Planning Department\nTo receive a report from Councillor Cullimore\, discuss planning application\, PA26/00206\, Cornwall Fire Rescue and Community Safety Service Headquarters\, Tolvaddon\, Installation of two portable building units for storage purposes – units to be stacked vertically with external stair to first floor level and agree statutory consultee comments to return to Cornwall Council Planning Department\nTo receive a report from Councillor Mrs O’Donnell\, discuss planning application PA26/01823\, 26 Trevelthan Road\, Illogan\, Proposed first floor extension with variation of Condition 2 of Decision Notice PA25/009511 dated 29.01.2026 and agree statutory consultee comments to return to Cornwall Council Planning Department\nTo receive a report from Councillor Mrs O’Donnell\, discuss planning application PA26/01816\, Land West of Little Trengale\, Parklands\, South Drive\, Tehidy\, The erection of a single storey memorial pavilion\, and agree statutory consultee comments to return to Cornwall Council Planning Department\nTo note planning decisions received from Cornwall Council and Planning Appeal Decisions received from the Planning Inspectorate\nTo receive a request for a commemorative bench or plaque in Illogan Park\, agree any future actions and any associated expenditure.\nTo receive correspondence regarding suggestions to safeguard vulnerable users of Illogan Park\, agree a response and any future actions.\nTo receive correspondence up to the date of the meeting\, agree any appropriate responses and any future actions\nTo note any information regarding the cricket field at Mary’s Well and agree any future actions and any associated expenditure\nTo consider items to be discussed at future meetings\nDate and Time of next meeting\n\nWednesday 15th April 2026\, time to be confirmed in Illogan Parish Council Community Office. \nGiven under my hand this day Wednesday 25th March 2026. \nSarah Rimell\, Clerk to the Council \nS Rimell \nPlanning Applications will be available to view from 6.30pm until 7pm on the evening of the meeting. \nCommittee Members: Councillors Gary Cullimore (Chairman)\, David Ekinsmyth (Vice Chairman)\, Dave Crabtree\, Graham Ford\, Tara O’Donnell\, Lee Simmons\, Sue Simmons\, Stefan Szoka\, and Maggie Thompson 
URL:https://www.illoganparishcouncil.gov.uk/event/climate-environment-and-planning-committee-2026-04-01/
LOCATION:Illogan Parish Council Community Office\, Trevelyan Road\, Illogan\, TR16 4RG\, United Kingdom
ORGANIZER;CN="Illogan%20Parish%20Council":MAILTO:enquiries@illoganparishcouncil.gov.uk
END:VEVENT
END:VCALENDAR