BEGIN:VCALENDAR
VERSION:2.0
PRODID:-//Illogan Parish Council - ECPv4.9.8//NONSGML v1.0//EN
CALSCALE:GREGORIAN
METHOD:PUBLISH
X-WR-CALNAME:Illogan Parish Council
X-ORIGINAL-URL:https://www.illoganparishcouncil.gov.uk
X-WR-CALDESC:Events for Illogan Parish Council
BEGIN:VTIMEZONE
TZID:Europe/London
BEGIN:DAYLIGHT
TZOFFSETFROM:+0000
TZOFFSETTO:+0100
TZNAME:BST
DTSTART:20250330T010000
END:DAYLIGHT
BEGIN:STANDARD
TZOFFSETFROM:+0100
TZOFFSETTO:+0000
TZNAME:GMT
DTSTART:20251026T010000
END:STANDARD
END:VTIMEZONE
BEGIN:VEVENT
DTSTART;TZID="Europe/London":20250429T193000
DTEND;TZID="Europe/London":20250429T200000
DTSTAMP:20260422T084700
CREATED:20250423T101219Z
LAST-MODIFIED:20250423T101219Z
UID:13013-1745955000-1745956800@www.illoganparishcouncil.gov.uk
SUMMARY:Climate\, Environment and Planning Committee meeting 2
DESCRIPTION:I hereby summon you to attend a Climate\, Environment and Planning Committee meeting of the Illogan Parish Council on Tuesday 29th April 2025\, 7.30pm in Illogan Parish Council Community Office\, Trevelyan Road\, Illogan \nAGENDA \n1. Safety Procedures \n2. To receive and approve apologies for absence and agree any future actions \n3. Members to declare disclosable pecuniary interests and non-registerable interests (including details thereof) in respect of any items on the agenda and any gifts or hospitality worth £25 or over \n4. To consider applications from members for dispensations \n5. Public participation \n6. To discuss planning applications received from Cornwall Council and agree statutory consultee comments to return to Cornwall Council Planning Department (Reporting Councillor -Cllr Cullimore) \ni. IPC2025/022\nPA25/02695\nRayle Farm\, Bridge Hill\, Bridge\nErection of domestic garage\nPA25/02695 | Erection of Domestic Garage. | Rayle Farm Bridge Hill Bridge Redruth Cornwall TR16 4QP \n7. Date and Time of next meeting\nWednesday 28th May 2025\, 7pm in Illogan Parish Council Community Office. \nGiven under my hand this day Wednesday 23rd April 2025. \nSarah Rimell\nClerk to the Council \nPlanning Applications will be available to view from 7.00pm until 7.30pm on the evening of the meeting. \nCommittee Members: Cllrs Gary Cullimore (Chairman)\, David Ekinsmyth (Vice Chairman)\, Graham Ford\, Paul Holmes\, Mrs Tara O’Donnell\, Miss Jean Pollock\, Lee Simmons and Stefan Szoka. 
URL:https://www.illoganparishcouncil.gov.uk/event/climate-environment-and-planning-committee-meeting-2-2/
LOCATION:Illogan Parish Council Community Office\, Trevelyan Road\, Illogan\, TR16 4RG\, United Kingdom
ORGANIZER;CN="Illogan%20Parish%20Council":MAILTO:enquiries@illoganparishcouncil.gov.uk
END:VEVENT
END:VCALENDAR