BEGIN:VCALENDAR
VERSION:2.0
PRODID:-//Illogan Parish Council - ECPv4.9.8//NONSGML v1.0//EN
CALSCALE:GREGORIAN
METHOD:PUBLISH
X-WR-CALNAME:Illogan Parish Council
X-ORIGINAL-URL:https://www.illoganparishcouncil.gov.uk
X-WR-CALDESC:Events for Illogan Parish Council
BEGIN:VTIMEZONE
TZID:Europe/London
BEGIN:DAYLIGHT
TZOFFSETFROM:+0000
TZOFFSETTO:+0100
TZNAME:BST
DTSTART:20250330T010000
END:DAYLIGHT
BEGIN:STANDARD
TZOFFSETFROM:+0100
TZOFFSETTO:+0000
TZNAME:GMT
DTSTART:20251026T010000
END:STANDARD
END:VTIMEZONE
BEGIN:VEVENT
DTSTART;TZID="Europe/London":20251015T184500
DTEND;TZID="Europe/London":20251015T190000
DTSTAMP:20260421T075119
CREATED:20241016T080701Z
LAST-MODIFIED:20251008T110621Z
UID:12443-1760553900-1760554800@www.illoganparishcouncil.gov.uk
SUMMARY:Climate\, Environment and Planning Committee Meeting
DESCRIPTION:I hereby summon you to attend a Climate\, Environment and Planning Committee meeting of the Illogan Parish Council on Wednesday 15th October 2025\, 6.45pm in Illogan Parish Council Community Office\, Trevelyan Road\, Illogan \nAGENDA \n1. Safety Procedures \n2. To receive and approve apologies for absence and agree any future actions \n3. Members to declare disclosable pecuniary interests and non-registerable interests (including details thereof) in respect of any items on the agenda and any gifts or hospitality worth £25 or over \n4. To consider applications from members for dispensations \n5. Public participation \n6. To discuss planning applications received from Cornwall Council and agree statutory consultee comments to return to Cornwall Council Planning Department (Reporting Councillor -Cllr Mrs O’Donnell) \ni. IPC2025/056\nPA25/05589\nTrelean\, Marys Well\, Illogan\nExtend the width of our driveway\, the work involves demolishing part of the front stone wall and moving the granite pillar. The drop kerb would need extending to the width of the drive.\nPA25/05589 | Extend the width of our driveway\, the work involves demolishing part of the front stone wall and moving the granite pillar. The drop kerb would need extending to the width of the drive | Trelean Marys Well Illogan Redruth Cornwall TR16 4EG \n7. To discuss planning applications received from Cornwall Council and agree statutory consultee comments to return to Cornwall Council Planning Department (Reporting Councillor -Cllr Cullimore) \ni. IPC2025/057\nPA23/04810\nLand South of Pendeen Park\, Merritts Hill\, Illogan\n21 new dwellings (Pendeen Park Phase 2)\nPA23/04810 | 21 new dwellings (Pendeen Park Phase 2) | Land South Of Pendeen Park Merritts Hill Illogan Redruth Cornwall TR16 4FH \n8. Date and Time of next meeting\nWednesday 5th November 2025\, 7pm in Illogan Parish Council Community Office. \nGiven under my hand this day Wednesday 29th October 2025. \nSarah Rimell\nClerk to the Council \nPlanning Applications will be available to view from 6.30pm until 7pm on the evening of the meeting. \nCommittee Members: Cllrs Gary Cullimore (Chairman)\, David Ekinsmyth (Vice Chairman)\, Dave Crabtree\, Graham Ford\, Tara O’Donnell\, Lee Simmons\, Sue Simmons\, Stefan Szoka\, and Maggie Thompson \n  
URL:https://www.illoganparishcouncil.gov.uk/event/climate-environment-and-planning-committee-meeting-20/
LOCATION:Illogan Parish Council Community Office\, Trevelyan Road\, Illogan\, TR16 4RG\, United Kingdom
ORGANIZER;CN="Illogan%20Parish%20Council":MAILTO:enquiries@illoganparishcouncil.gov.uk
END:VEVENT
END:VCALENDAR