BEGIN:VCALENDAR
VERSION:2.0
PRODID:-//Illogan Parish Council - ECPv4.9.8//NONSGML v1.0//EN
CALSCALE:GREGORIAN
METHOD:PUBLISH
X-WR-CALNAME:Illogan Parish Council
X-ORIGINAL-URL:https://www.illoganparishcouncil.gov.uk
X-WR-CALDESC:Events for Illogan Parish Council
BEGIN:VTIMEZONE
TZID:Europe/London
BEGIN:DAYLIGHT
TZOFFSETFROM:+0000
TZOFFSETTO:+0100
TZNAME:BST
DTSTART:20250330T010000
END:DAYLIGHT
BEGIN:STANDARD
TZOFFSETFROM:+0100
TZOFFSETTO:+0000
TZNAME:GMT
DTSTART:20251026T010000
END:STANDARD
END:VTIMEZONE
BEGIN:VEVENT
DTSTART;TZID="Europe/London":20250416T183000
DTEND;TZID="Europe/London":20250416T190000
DTSTAMP:20260420T080339
CREATED:20241016T075925Z
LAST-MODIFIED:20250409T130335Z
UID:12419-1744828200-1744830000@www.illoganparishcouncil.gov.uk
SUMMARY:Climate\, Environment and Planning Committee Meeting
DESCRIPTION:I hereby summon you to attend a Climate\, Environment and Planning Committee meeting of the Illogan Parish Council on Wednesday 16th April 2025\, 6.30pm in Illogan Parish Council Community Office\, Trevelyan Road\, Illogan \nAGENDA \n1. Safety Procedures \n2. To receive and approve apologies for absence and agree any future actions \n3. Members to declare disclosable pecuniary interests and non-registerable interests (including details thereof) in respect of any items on the agenda and any gifts or hospitality worth £25 or over \n4. To consider applications from members for dispensations \n5. Public participation \n6. To discuss planning applications received from Cornwall Council and agree statutory consultee comments to return to Cornwall Council Planning Department (Reporting Councillor -Cllr Mrs O’Donnell) \ni. IPC2025/019\nPA25/02275\nRayle Farm\, Bridge Hill\, Bridge\nProposed two storey extension to provide ancillary accommodations\nPA25/02275 | Proposed two storey extension to provide ancillary accommodation | Rayle Farm Bridge Hill Bridge Redruth Cornwall TR16 4QP \nii. IPC2025/020\nPA25/02601\nThe Cottage\, 6 Cottage Gardens\, Tolvaddon\nProposed first floor extension\nPA25/02601 | Proposed First Floor Extension | The Cottage 6 Cottage Gardens Tolvaddon Camborne Cornwall TR14 0GL \niii. IPC2025/021\nPA25/02353\nCleeve\, Bassett Road\, Voguebeloth\, Illogan\nDemolition of existing bungalow; replacement dwelling with rooms in the roof\nPA25/02353 | Demolition of existing bungalow; replacement dwelling with rooms in the roof. | Cleeve Bassett Road Voguebeloth Illogan Redruth Cornwall TR16 4ER \n7. Date and Time of next meeting\nTuesday 29th April 2025\, 7pm in Illogan Parish Council Community Office. \nGiven under my hand this day Wednesday 9th April 2025. \nSarah Rimell\nClerk to the Council \nPlanning Applications will be available to view from 6.00pm until 6.30pm on the evening of the meeting. \nCommittee Members: Cllrs Gary Cullimore (Chairman)\, David Ekinsmyth (Vice Chairman)\, Graham Ford\, Paul Holmes\, Mrs Tara O’Donnell\, Miss Jean Pollock\, Lee Simmons and Stefan Szoka. 
URL:https://www.illoganparishcouncil.gov.uk/event/climate-environment-and-planning-committee-meeting-8/
LOCATION:Illogan Parish Council Community Office\, Trevelyan Road\, Illogan\, TR16 4RG\, United Kingdom
CATEGORIES:Full Council
ORGANIZER;CN="Illogan%20Parish%20Council":MAILTO:enquiries@illoganparishcouncil.gov.uk
END:VEVENT
END:VCALENDAR