BEGIN:VCALENDAR
VERSION:2.0
PRODID:-//Illogan Parish Council - ECPv4.9.8//NONSGML v1.0//EN
CALSCALE:GREGORIAN
METHOD:PUBLISH
X-WR-CALNAME:Illogan Parish Council
X-ORIGINAL-URL:https://www.illoganparishcouncil.gov.uk
X-WR-CALDESC:Events for Illogan Parish Council
BEGIN:VTIMEZONE
TZID:Europe/London
BEGIN:DAYLIGHT
TZOFFSETFROM:+0000
TZOFFSETTO:+0100
TZNAME:BST
DTSTART:20250330T010000
END:DAYLIGHT
BEGIN:STANDARD
TZOFFSETFROM:+0100
TZOFFSETTO:+0000
TZNAME:GMT
DTSTART:20251026T010000
END:STANDARD
END:VTIMEZONE
BEGIN:VEVENT
DTSTART;TZID="Europe/London":20251015T190000
DTEND;TZID="Europe/London":20251015T203000
DTSTAMP:20260421T080843
CREATED:20241016T074427Z
LAST-MODIFIED:20251008T110659Z
UID:12399-1760554800-1760560200@www.illoganparishcouncil.gov.uk
SUMMARY:Full Council Meeting
DESCRIPTION:I hereby summon you to a Full Council meeting of Illogan Parish Council to be held on Wednesday 15th October 2025 at 7.00 pm at Illogan Parish Council Community Office\, Trevelyan Road\, Illogan\, TR16 4RG \nMembers of the press and public are invited to attend. \nAGENDA \n1. Safety Procedures \n2. Chairman’s Welcome \n3. To receive and approve apologies for absence and agree any future actions \n4. Members to declare disclosable pecuniary interests and non-registerable interests (including details thereof) in respect of any items on the agenda and any gifts or hospitality over £25 \n5. To consider applications from members for dispensations \n6. Public participation \n7. Chairman’s Announcements \n8. To receive and approve the minutes of the Full Council Meeting held on the 17th September 2025 and the Chairman to sign them \n9. Matters arising from the minutes and a report on progress of actions\, for information only \n10. To receive the Delegated Decisions Register since the last meetings\, ratify all decisions made and agree any future actions \n11. To receive reports on the payments\, receipts and bank reconciliation for the month of September 2025 and agree any future actions \n12. To ratify the Barclaycard payments for the month of September 2025 and agree any future actions \n13. To authorise payment of accounts for the month of October 2025 and agree any future actions (up to date list to be tabled at the meeting) \n14. To receive the grant application from The Old School Centre\, agree any future actions and any associated expenditure (Local Government (Miscellaneous Provisions) Act 1976\, s. 19) \n15. To receive the external audit and agree any future actions \n16. To appoint members to fill vacancies on the following Committees\, and agree any future actions: \ni. Community Events Committee\nii. Finance\, Resources and Projects Committee\niii. Governance Review Committee\niv. Staffing Committee \n17. To receive a report from Cllr Holmes on Street and Other Name Signage\, agree any future actions and any associated expenditure \n18. To consider management\, maintenance and future developments in Illogan Park and other parish facilities\, agree any appropriate actions and any associated expenditure \n19. To receive a report from Council Officers including Health and Safety\, agree future actions and any associated expenditure \n20. To receive correspondence from the 10th September 2025 until the 7th October 2025\, agree any appropriate responses and any future actions \n21. To receive reports from the Cornwall Councillors \n22. To receive a 2-minute update from committee chairmen and note the minutes of the following committee meetings held since 4th September 2025: \ni. Governance Review Committee – 10th September 2025\nii. Climate\, Environment and Planning Committee – 17th September and 1st October 2025\niii. Community Events Committee – 7th October 2025 \n23. To receive a 2-minute update from the Council Representative on outside bodies including the Police Liaison Committee and on Cllrs who have attended training courses or conferences \n24. To consider items to be discussed at future meetings; agree where to discuss and timescales \n25. Date & time of next meeting: \nWednesday 19th November 2025\, 7pm in Illogan Parish Council Community Office. \n26. That under the 1960 Public Bodies (Admission to Meetings) Act the press and public are excluded due to the confidential nature of the business to be discussed \n27. To receive quotes from solicitors to advise the Council in the devolution process\, appoint a solicitor\, agree any future actions and any associated expenditure \nGiven under my hand this day Wednesday 8th October 2025. \nSarah Rimell\nClerk to the Council 
URL:https://www.illoganparishcouncil.gov.uk/event/full-council-meeting-120/
LOCATION:Illogan Parish Council Community Office\, Trevelyan Road\, Illogan\, TR16 4RG\, United Kingdom
ORGANIZER;CN="Illogan%20Parish%20Council":MAILTO:enquiries@illoganparishcouncil.gov.uk
END:VEVENT
END:VCALENDAR