BEGIN:VCALENDAR
VERSION:2.0
PRODID:-//Illogan Parish Council - ECPv4.9.8//NONSGML v1.0//EN
CALSCALE:GREGORIAN
METHOD:PUBLISH
X-WR-CALNAME:Illogan Parish Council
X-ORIGINAL-URL:https://www.illoganparishcouncil.gov.uk
X-WR-CALDESC:Events for Illogan Parish Council
BEGIN:VTIMEZONE
TZID:Europe/London
BEGIN:DAYLIGHT
TZOFFSETFROM:+0000
TZOFFSETTO:+0100
TZNAME:BST
DTSTART:20150329T010000
END:DAYLIGHT
BEGIN:STANDARD
TZOFFSETFROM:+0100
TZOFFSETTO:+0000
TZNAME:GMT
DTSTART:20151025T010000
END:STANDARD
END:VTIMEZONE
BEGIN:VEVENT
DTSTART;TZID="Europe/London":20150916T183000
DTEND;TZID="Europe/London":20150916T190000
DTSTAMP:20260425T125336
CREATED:20150226T170239Z
LAST-MODIFIED:20150909T102425Z
UID:263-1442428200-1442430000@www.illoganparishcouncil.gov.uk
SUMMARY:Planning and Environment
DESCRIPTION:Notice is hereby given that the Planning & Environmental Services Committee meeting of the Illogan Parish Council is to be held on Wednesday 16th September 2015\, 6.30pm at Penwartha Hall\, Voguebeloth\, Illogan \n  \nAGENDA \n  \n\nSafety Procedures\n\n  \n\nTo receive apologies for absence\n\n  \n\nMembers to declare disclosable pecuniary interests and non-registerable interests (including details thereof) in respect of any items on the agenda and any gifts or hospitality worth £25 or over\n\n  \n\nTo consider applications from members for dispensations\n\n  \n\nPublic participation on items on the agenda (Maximum of 10 minutes – Every speaker has a limit of 3 minutes under the Council’s Standing Orders)\n\n  \n\nTo discuss planning applications received up to the date of the meeting (Cllr Mrs Roberts)\n\n\n IPC2015/050\nPA15/07510\nMr and Mrs Steve Delaney\, Kessenyans\, 47 Churchtown Road\, Illogan\nExtension and alteration of existing dwelling to form two self contained flats and alterations to existing vehicle access\n\n  \n\nIPC2015/051\nPA15/07532\nMiss Kelly Williams\, Lustleigh\, Mount Whistle Road\, South Tehidy\, Camborne\nRemoval of 2 x Sycamore trees\n\n  \n  \n\nDate and Time of next meeting\n\nWednesday 7th October 2015\, 7.15pm in Penwartha Hall\, Voguebeloth\, Illogan \n  \nGiven under my hand this day Wednesday 9th September 2015. \n  \nSarah Willsher \nClerk to the Council \n  \nPlanning Applications will be available to view from 6.00pm until 6.30pm on the evening of the meeting. \n  \nCommittee Members: Cllr Mrs Roberts – Chairman\, Cllr Ford – Vice Chairman\, Cllr Mrs Ferrett\, Cllr Holmes\, Pavey\, Miss Pollock\, Cllr Szoka\, Cllr Mrs Thompson and Uren 
URL:https://www.illoganparishcouncil.gov.uk/event/planning-and-environment-17/
LOCATION:Penwartha Hall\, Voguebeloth\, Illogan\, Cornwall\, TR16 4ST\, United Kingdom
CATEGORIES:Planning & Environment
ORGANIZER;CN="Illogan%20Parish%20Council":MAILTO:enquiries@illoganparishcouncil.gov.uk
END:VEVENT
END:VCALENDAR