BEGIN:VCALENDAR
VERSION:2.0
PRODID:-//Illogan Parish Council - ECPv4.9.8//NONSGML v1.0//EN
CALSCALE:GREGORIAN
METHOD:PUBLISH
X-WR-CALNAME:Illogan Parish Council
X-ORIGINAL-URL:https://www.illoganparishcouncil.gov.uk
X-WR-CALDESC:Events for Illogan Parish Council
BEGIN:VTIMEZONE
TZID:Europe/London
BEGIN:DAYLIGHT
TZOFFSETFROM:+0000
TZOFFSETTO:+0100
TZNAME:BST
DTSTART:20250330T010000
END:DAYLIGHT
BEGIN:STANDARD
TZOFFSETFROM:+0100
TZOFFSETTO:+0000
TZNAME:GMT
DTSTART:20251026T010000
END:STANDARD
END:VTIMEZONE
BEGIN:VEVENT
DTSTART;TZID="Europe/London":20251007T183000
DTEND;TZID="Europe/London":20251007T203000
DTSTAMP:20260421T075926
CREATED:20241016T081451Z
LAST-MODIFIED:20251007T103242Z
UID:12473-1759861800-1759869000@www.illoganparishcouncil.gov.uk
SUMMARY:Community Events Committee Meeting
DESCRIPTION:I hereby summon you to a Community Events Committee meeting on Tuesday 7th October 2025 at 6.30pm in Illogan Parish Council Community Office\, Trevelyan Road\, Illogan\, TR16 4RG \nMembers of the public are invited to attend. \nSafety procedures. \nAGENDA\n\nTo receive and approve apologies for absence and agree any future actions\nMembers to declare disclosable pecuniary interests and non-registerable interests (including details thereof) in respect of any items on the agenda and any gifts or hospitality over £25\nTo consider applications from members for dispensations\nPublic Participation\nTo co-opt members of the public onto the Community Events Committee for the 2025/2026 municipal year.\nTo receive and approve the minutes of the meeting of the Community Events Committee held on the 2nd September 2025 and the Chairman to sign them\nMatters arising from the Minutes and a report on progress of actions\, for information only\nTo receive an update on the Events budget\, and agree any future actions (to be tabled at the meeting)\nTo finalise arrangements for the Autumn Litter Pick\, agree any future actions and any associated expenditure including the purchase of children’s litter pickers and refreshments\nTo consider arrangements for the Remembrance Parade\, agree any future actions and any associated expenditure\nTo receive an update from Light Up Illogan\, agree any future actions and any associated expenditure\nTo consider arrangements for the 2025 Christmas Events\, agree any future actions and any associated expenditure\nTo consider items to be discussed at future meetings\nDate and time of next meeting\n\nTuesday 21st October 2025\, 6.30pm in Illogan Parish Council Community Office. \n\nThat under the 1960 Public Bodies (Admission to Meetings) Act the press and public are excluded due to the confidential nature of the business to be discussed\nTo receive quotes for marshals for the Illogan Remembrance Parade and Illogan Christmas Lights Switch On Event\, appoint a contractor\, agree any future actions and any associated expenditure\n\nGiven under my hand this day Tuesday 30th September 2025 \nSarah Rimell \nClerk to the Council \nMembers of Committee:  Cllr Tara O’Donnell (Chairman)\, Cllr Lee Hodge (Vice Chairman)\, Cllr Graham Ford\, Cllr Lee Simmons\, Cllr Mrs Sue Simmons\, Mr Dolling and Mr Wing. 
URL:https://www.illoganparishcouncil.gov.uk/event/community-events-committee-meeting-44/
LOCATION:Illogan Parish Council Community Office\, Trevelyan Road\, Illogan\, TR16 4RG\, United Kingdom
ORGANIZER;CN="Illogan%20Parish%20Council":MAILTO:enquiries@illoganparishcouncil.gov.uk
END:VEVENT
END:VCALENDAR