BEGIN:VCALENDAR
VERSION:2.0
PRODID:-//Illogan Parish Council - ECPv4.9.8//NONSGML v1.0//EN
CALSCALE:GREGORIAN
METHOD:PUBLISH
X-WR-CALNAME:Illogan Parish Council
X-ORIGINAL-URL:https://www.illoganparishcouncil.gov.uk
X-WR-CALDESC:Events for Illogan Parish Council
BEGIN:VTIMEZONE
TZID:Europe/London
BEGIN:DAYLIGHT
TZOFFSETFROM:+0000
TZOFFSETTO:+0100
TZNAME:BST
DTSTART:20260329T010000
END:DAYLIGHT
BEGIN:STANDARD
TZOFFSETFROM:+0100
TZOFFSETTO:+0000
TZNAME:GMT
DTSTART:20261025T010000
END:STANDARD
END:VTIMEZONE
BEGIN:VEVENT
DTSTART;TZID="Europe/London":20260317T190000
DTEND;TZID="Europe/London":20260317T210000
DTSTAMP:20260422T084140
CREATED:20260108T094621Z
LAST-MODIFIED:20260108T094621Z
UID:13975-1773774000-1773781200@www.illoganparishcouncil.gov.uk
SUMMARY:Governance Review Committee
DESCRIPTION:Members of the public are invited\, and Councillors are summoned to attend a meeting of the Governance Review Committee of Illogan Parish Council.\nWe look forward to your attendance. \nIllogan Parish Council is committed to ensuring that its meetings are accessible to all. The venue includes accessible facilities. If you require reasonable adjustments or this notice in an alternative format\, please contact the Parish Clerk as soon as possible. \nEmail: enquiries@illoganparishcouncil.gov.uk. \nTelephone: 01209 711433. \nDate\, Time and Location:\nWednesday 25th March 2026 at 7pm in Illogan Parish Council Community Office\, Trevelyan Road\, Illogan. \nAGENDA\n\nTo receive and approve apologies for absence and agree any future actions.\nMembers to declare disclosable pecuniary interests and non-registerable interests (including details thereof) in respect of any items on the agenda and any gifts or hospitality over £25.\nTo consider applications from members for dispensations.\nPublic Participation.\nTo receive and approve the minutes of the meeting of the Governance Review Committee held on the 25th February 2026 and the Chairman to sign them.\nMatters arising from the minutes and a report on progress of actions\, for information only.\nTo receive and approve the Draft Work Related Driving Policy and agree any future actions.\nTo receive Draft Building Checks document and agree any future actions.\nTo receive the Draft Use of Open Spaces Policy and agree any future actions.\nTo review the Absence Management Policy and agree any future actions.\nTo review the Leave Policy and agree any future actions.\nTo receive a report on the Annual Appraisal Protocol\, review the 360-degree Annual Appraisal Protocol and the Draft Annual Appraisal Protocol\, agree which protocol to adopt\, and agree any future actions.\nTo review the Training and Development Policy and agree any future actions.\nTo review the Equality and Diversity Policy and agree any future actions.\nTo review the Employee Expenses Form and agree any future actions.\nTo review the Anti-Bullying and Harassment Policy and agree any future actions.\nTo review the Flexible Working Policy and agree any future actions.\nTo review the Policy And Procedures For The Treatment Of Alcohol And Drug Misuse and agree any future actions.\nTo review the Capability Procedure and agree any future actions.\nTo review the Grievance Policy and agree any future actions.\nTo review the Disciplinary Policy and agree any future actions.\nTo review the Maternity Risk Assessment and Policy and agree any future actions.\nTo review the Adoption Leave Policy and agree any future actions.\nTo review the Paternity Leave And Maternity Support Leave Policy and agree any future actions.\nTo review the Working Time Policy and agree any future actions.\nTo review the Menopause Policy and agree any future actions.\nDate and time of next meeting\n\nWednesday 29th April 2026\, 7pm in Illogan Parish Council Community Office \n\nThat under the 1960 Public Bodies (Admission to Meetings) Act the press and public are excluded due to the confidential nature of the business to be discussed.\nTo receive a complaint and agree any future actions\n\nGiven under my hand this day Wednesday 18th March 2026 \nSarah Rimell \nSarah Rimell\, Clerk to the Council \nMembers of Committee: Councillors Graham Ford (Chairman)\, Maggie Thompson (Vice Chairman)\, Dave Crabtree\, Anne Edwards\, Lee Hodge\, Paul Holmes\, and Jean Pollock. \n  
URL:https://www.illoganparishcouncil.gov.uk/event/governance-review-committee-4/2026-03-17/
LOCATION:Illogan Parish Council Community Office\, Trevelyan Road\, Illogan\, TR16 4RG\, United Kingdom
ORGANIZER;CN="Illogan%20Parish%20Council":MAILTO:enquiries@illoganparishcouncil.gov.uk
END:VEVENT
END:VCALENDAR