BEGIN:VCALENDAR
VERSION:2.0
PRODID:-//Illogan Parish Council - ECPv4.9.8//NONSGML v1.0//EN
CALSCALE:GREGORIAN
METHOD:PUBLISH
X-WR-CALNAME:Illogan Parish Council
X-ORIGINAL-URL:https://www.illoganparishcouncil.gov.uk
X-WR-CALDESC:Events for Illogan Parish Council
BEGIN:VTIMEZONE
TZID:Europe/London
BEGIN:DAYLIGHT
TZOFFSETFROM:+0000
TZOFFSETTO:+0100
TZNAME:BST
DTSTART:20260329T010000
END:DAYLIGHT
BEGIN:STANDARD
TZOFFSETFROM:+0100
TZOFFSETTO:+0000
TZNAME:GMT
DTSTART:20261025T010000
END:STANDARD
END:VTIMEZONE
BEGIN:VEVENT
DTSTART;TZID="Europe/London":20260520T180000
DTEND;TZID="Europe/London":20260520T190000
DTSTAMP:20260422T082411
CREATED:20260108T094933Z
LAST-MODIFIED:20260116T112633Z
UID:13657-1779300000-1779303600@www.illoganparishcouncil.gov.uk
SUMMARY:Annual Parish Meeting
DESCRIPTION:
URL:https://www.illoganparishcouncil.gov.uk/event/annual-parish-meeting-11/
LOCATION:Cornwall\, United Kingdom
END:VEVENT
BEGIN:VEVENT
DTSTART;TZID="Europe/London":20260520T190000
DTEND;TZID="Europe/London":20260520T210000
DTSTAMP:20260422T082411
CREATED:20260108T091717Z
LAST-MODIFIED:20260108T091811Z
UID:13627-1779303600-1779310800@www.illoganparishcouncil.gov.uk
SUMMARY:Annual Council Meeting
DESCRIPTION:
URL:https://www.illoganparishcouncil.gov.uk/event/full-council-meeting-124-2026-05-20/
LOCATION:Cornwall\, United Kingdom
END:VEVENT
END:VCALENDAR